BEGIN:VCALENDAR
VERSION:2.0
PRODID:-//CEIST | Catholic Education | An Irish Schools Trust - ECPv6.15.13.1//NONSGML v1.0//EN
CALSCALE:GREGORIAN
METHOD:PUBLISH
X-ORIGINAL-URL:https://www.ceist.ie
X-WR-CALDESC:Events for CEIST | Catholic Education | An Irish Schools Trust
REFRESH-INTERVAL;VALUE=DURATION:PT1H
X-Robots-Tag:noindex
X-PUBLISHED-TTL:PT1H
BEGIN:VTIMEZONE
TZID:Europe/Dublin
BEGIN:STANDARD
TZOFFSETFROM:+0000
TZOFFSETTO:+0100
TZNAME:IST
DTSTART:20160327T010000
END:STANDARD
BEGIN:DAYLIGHT
TZOFFSETFROM:+0100
TZOFFSETTO:+0000
TZNAME:GMT
DTSTART:20161030T010000
END:DAYLIGHT
BEGIN:STANDARD
TZOFFSETFROM:+0000
TZOFFSETTO:+0100
TZNAME:IST
DTSTART:20170326T010000
END:STANDARD
BEGIN:DAYLIGHT
TZOFFSETFROM:+0100
TZOFFSETTO:+0000
TZNAME:GMT
DTSTART:20171029T010000
END:DAYLIGHT
BEGIN:STANDARD
TZOFFSETFROM:+0000
TZOFFSETTO:+0100
TZNAME:IST
DTSTART:20180325T010000
END:STANDARD
BEGIN:DAYLIGHT
TZOFFSETFROM:+0100
TZOFFSETTO:+0000
TZNAME:GMT
DTSTART:20181028T010000
END:DAYLIGHT
BEGIN:STANDARD
TZOFFSETFROM:+0000
TZOFFSETTO:+0100
TZNAME:IST
DTSTART:20190331T010000
END:STANDARD
BEGIN:DAYLIGHT
TZOFFSETFROM:+0100
TZOFFSETTO:+0000
TZNAME:GMT
DTSTART:20191027T010000
END:DAYLIGHT
BEGIN:STANDARD
TZOFFSETFROM:+0000
TZOFFSETTO:+0100
TZNAME:IST
DTSTART:20200329T010000
END:STANDARD
BEGIN:DAYLIGHT
TZOFFSETFROM:+0100
TZOFFSETTO:+0000
TZNAME:GMT
DTSTART:20201025T010000
END:DAYLIGHT
BEGIN:STANDARD
TZOFFSETFROM:+0000
TZOFFSETTO:+0100
TZNAME:IST
DTSTART:20210328T010000
END:STANDARD
BEGIN:DAYLIGHT
TZOFFSETFROM:+0100
TZOFFSETTO:+0000
TZNAME:GMT
DTSTART:20211031T010000
END:DAYLIGHT
END:VTIMEZONE
BEGIN:VTIMEZONE
TZID:UTC
BEGIN:STANDARD
TZOFFSETFROM:+0000
TZOFFSETTO:+0000
TZNAME:UTC
DTSTART:20160101T000000
END:STANDARD
END:VTIMEZONE
BEGIN:VEVENT
DTSTART;VALUE=DATE:20191018
DTEND;VALUE=DATE:20191021
DTSTAMP:20260419T213757
CREATED:20190827T142213Z
LAST-MODIFIED:20190827T142213Z
UID:11494-1571356800-1571615999@www.ceist.ie
SUMMARY:European Youth Parliament Ireland
DESCRIPTION:This year’s Dublin Regional Session of the EYP Ireland will take place from the 18th-20th of October 2019.  Delegations of up to eight TY\, 5th and 6th year students can attend this weekend long conference in Holy Child School Killiney. Over the course of the weekend your students will have the opportunity to improve their communication and public speaking skills\, engage with pressing issues facing Europe and make new friends. The fee for this event is €60 per delegate\, however in the case of DEIS schools the fee may be reduced or waived entirely. \nPlease see the information booklet for full details. \nEYP Information booklet
URL:https://www.ceist.ie/event/european-youth-parliament-ireland/
LOCATION:Co. Westmeath
ATTACH;FMTTYPE=image/png:https://www.ceist.ie/wp-content/uploads/2019/08/EYP.png
END:VEVENT
BEGIN:VEVENT
DTSTART;TZID=Europe/Dublin:20191017T080000
DTEND;TZID=Europe/Dublin:20191018T170000
DTSTAMP:20260419T213757
CREATED:20190823T093644Z
LAST-MODIFIED:20190823T093644Z
UID:11480-1571299200-1571418000@www.ceist.ie
SUMMARY:DCU Network for Researchers in Catholic Education Annual Conference 2019
DESCRIPTION:DCU Network for Researchers in Catholic Education Annual Conference 2019\nThe Mater Dei Centre for Catholic Education DCU is delighted to host the 2019 annual conference for the Network for Researchers in Catholic Education. The theme of this year’s conference is ‘Catholic Education: Formal\, Informal and Lifelong’ \nOur confirmed Keynote speakers include: \n\nDr. Ros Stuart-Buttle (Liverpool Hope University)\nDr. Gareth Byrne (Director of the Mater Dei Centre for Catholic Education)\nDr. Bernadette Sweetman (Mater Dei Centre for Catholic Education)\n\nFollow the link below for more details: \nhttps://www.dcu.ie/materdei-centre-for-catholic-education/news/2019/May/Network-of-Researchers-Catholic-Education \n 
URL:https://www.ceist.ie/event/dcu-network-for-researchers-in-catholic-education-annual-conference-2019/
LOCATION:DCU Institute of Education\, DCU St. Patrick's Campus\, Drumcondra\,\, Dublin\, D09 AW21\, Ireland
ATTACH;FMTTYPE=image/png:https://www.ceist.ie/wp-content/uploads/2019/08/St-Pats-DCU.png
END:VEVENT
BEGIN:VEVENT
DTSTART;VALUE=DATE:20190926
DTEND;VALUE=DATE:20190928
DTSTAMP:20260419T213757
CREATED:20190606T113610Z
LAST-MODIFIED:20190923T085559Z
UID:11240-1569456000-1569628799@www.ceist.ie
SUMMARY:CEIST Annual Conference 2019
DESCRIPTION:The annual CEIST conference takes place on Thursday 26th and Friday 27th of September. The conference will be held in the Hodson Bay Hotel in Athlone. The theme for this year’s conference is “CEIST: Intentional Catholic Schools”. We welcome all visitors to our conference and hope to have a full turnout  of CEIST schools over the two days. Please check back on this page for more details coming closer to the event. \n  \nSpeaker Details\nKeynote Speakers \n\nDr John Lydon\, Director of the MA in Catholic School Leadership Programme and Associate Director of the Centre for Research and Development in Catholic Education\, St Mary’s University London.\nDr Lorna Gold is Head of Policy and Advocacy in Trócaire.\n\nWorkshop Presenters \n\nTom Gunning\, Loreto Secondary School\, Wexford / Veritas Soul Seekers series.\nJonathan Tiernan\, University of Notre Dame’s Alliance for Catholic Education (ACE) in Ireland.\nRobert McCarthy\, Chairperson of the BOM in Scoil Mhuire\, Carrick on Suir and Chairperson of the BOM in Ard Scoil na nDeise\, Dungarvan.\nSeamus Ryan\, Director of Tara 365 Learning Ltd.\nDr Gillian Sullivan\, Our Lady’s College\, Greenhills\, Drogheda.\nDr Orla Walsh\, Deputy Principal of Mount Sackville Secondary School\, Sisters of St. Joseph of Cluny\, Chapelizod.\nLinda Rainsberry\, Chairperson of the Board of Governors of Kilkenny College.\n\nPlease click here to view Speakers Biographies CEIST Conference 2019. \n  \nSchedule\nPlease click here to view two day schedule. \n  \nBooking Form\nPlease click the link below to register your attendance to the CEIST Conference. \nCEIST Conference 2019 – Booking Form \n  \nPayment Details\nClick her for payment details 
URL:https://www.ceist.ie/event/ceist-annual-conference-2019/
LOCATION:Hodson Bay Hotel Athlone\, Hodson Bay Hotel\, Roscommon Road\, Athlone\, Co. Westmeath\, N37 XR82\, Ireland
ATTACH;FMTTYPE=image/png:https://www.ceist.ie/wp-content/uploads/2019/06/Conference-2019-Header-2.png
END:VEVENT
BEGIN:VEVENT
DTSTART;TZID=Europe/Dublin:20190910T150000
DTEND;TZID=Europe/Dublin:20190910T180000
DTSTAMP:20260419T213757
CREATED:20190828T102958Z
LAST-MODIFIED:20190828T104130Z
UID:11501-1568127600-1568138400@www.ceist.ie
SUMMARY:Ethos Induction for Newly Appointed Teachers in CEIST Schools - 2019
DESCRIPTION:The annual Ethos Induction for Newly Appointed Teachers in CEIST Schools 2019 will be held this year in Killeshin Hotel & Leisure Club\, Portlaoise. This day is a great way for new teachers to meet the CEIST team and learn a little about the organisation and the role we play in all our schools\, while also networking with other new teachers from all the CEIST schools. \nPlease click link below to register: \nRegistration Form
URL:https://www.ceist.ie/event/ethos-induction-for-newly-appointed-teachers-in-ceist-schools-2019/
LOCATION:The Killeshin Hotel & Leisure Club\, The Killeshin Hotel & Leisure Club\, Dublin Road\, Portlaoise\, Laois\, Ireland
ATTACH;FMTTYPE=image/png:https://www.ceist.ie/wp-content/uploads/2018/08/Form-2017-Header.png
END:VEVENT
BEGIN:VEVENT
DTSTART;VALUE=DATE:20190801
DTEND;VALUE=DATE:20200901
DTSTAMP:20260419T213757
CREATED:20190828T133039Z
LAST-MODIFIED:20200707T152948Z
UID:11506-1564617600-1598918399@www.ceist.ie
SUMMARY:CEIST Training and Event Planner 2019/2020
DESCRIPTION:Due to Covid-19 restrictions a number of events have been postponed until further notice. This website will be updated in due course once event schedule is confirmed. In the meantime please contact the CEIST office if you have any queries regarding future events. \n 
URL:https://www.ceist.ie/event/ceist-training-and-event-planner-2019-2020/
LOCATION:Co. Westmeath
END:VEVENT
BEGIN:VEVENT
DTSTART;TZID=Europe/Dublin:20190611T103000
DTEND;TZID=Europe/Dublin:20190611T140000
DTSTAMP:20260419T213757
CREATED:20190513T141859Z
LAST-MODIFIED:20190513T154834Z
UID:10402-1560249000-1560261600@www.ceist.ie
SUMMARY:CEIST Seminar for Principals of Community Schools
DESCRIPTION:When: Thursday 11th June 2018  \nWhere: Mount St Anne’s \, Killenard\, Portarlington\, Co Laois \n  \nPlease click here for full agenda of the day. If you have any questions please feel free to contact the CEIST office directly on 01-6510350 or email info@ceist.ie \n  \nIf you would like to attend this event please complete registration from below: \n  \nLoading…
URL:https://www.ceist.ie/event/ceist-seminar-for-principals-of-community-schools/
LOCATION:Mount Siant Annes\, Mount St. Annes\, Killenard\, Portarlington\, Co. Laoise\, Ireland
ATTACH;FMTTYPE=image/png:https://www.ceist.ie/wp-content/uploads/2019/03/ceist.png
END:VEVENT
BEGIN:VEVENT
DTSTART;TZID=Europe/Dublin:20190411T190000
DTEND;TZID=Europe/Dublin:20190411T210000
DTSTAMP:20260419T213757
CREATED:20190311T114227Z
LAST-MODIFIED:20190311T115715Z
UID:9197-1555009200-1555016400@www.ceist.ie
SUMMARY:Boards of Management Health & Safety/Finance Information Seminars (Sligo)
DESCRIPTION:CEIST are organising  Finance/Health & Safety Information Seminars for Boards of Management in March and April 2019. \nThe Seminars will take place from 7.00p.m. – 9.00p.m. each evening with Tea/Coffee & Sandwiches available from 6.30p.m. \nDates and venues:  \n\nMonday March 25th                       –              CityNorth Hotel\, Gormanston\nTuesday 26th March                       –              Newpark Hotel\, Kilkenny\nWednesday 27th March                 –              Springfort Hall\, Mallow\nThursday 28th March                     –              Maldron Hotel\, Oranmore\nThursday 11th April                        –             Sligo Park Hotel\, Sligo\n\n  \nPlease click here to make your reservation \n 
URL:https://www.ceist.ie/event/health-safety-finance-information-seminars-for-boards-of-management-sligo/
LOCATION:Sligo Park Hotel\, Sligo Park Hotel\, Pearse Rd.\, Co. Sligo\, F91 Y762\, Ireland
END:VEVENT
BEGIN:VEVENT
DTSTART;TZID=Europe/Dublin:20190328T190000
DTEND;TZID=Europe/Dublin:20190328T210000
DTSTAMP:20260419T213757
CREATED:20190311T114010Z
LAST-MODIFIED:20190311T115615Z
UID:9194-1553799600-1553806800@www.ceist.ie
SUMMARY:Boards of Management Health & Safety/Finance Information Seminars (Galway)
DESCRIPTION:CEIST are organising  Finance/Health & Safety Information Seminars for Boards of Management in March and April 2019. \nThe Seminars will take place from 7.00p.m. – 9.00p.m. each evening with Tea/Coffee & Sandwiches available from 6.30p.m. \nDates and venues:  \n\nMonday March 25th                       –              CityNorth Hotel\, Gormanston\nTuesday 26th March                       –              Newpark Hotel\, Kilkenny\nWednesday 27th March                 –              Springfort Hall\, Mallow\nThursday 28th March                     –              Maldron Hotel\, Oranmore\nThursday 11th April                        –             Sligo Park Hotel\, Sligo\n\n  \nPlease click here to make your reservation \n 
URL:https://www.ceist.ie/event/health-safety-finance-information-seminars-for-boards-of-management-galway/
LOCATION:Maldron Hotel\, Oranmore\, Maldron Hotel\, Carrowmoneash\, Oranmore\, Co. Galway\, H91 K7FA\, Ireland
END:VEVENT
BEGIN:VEVENT
DTSTART;TZID=Europe/Dublin:20190327T190000
DTEND;TZID=Europe/Dublin:20190327T210000
DTSTAMP:20260419T213757
CREATED:20190311T113805Z
LAST-MODIFIED:20190311T115512Z
UID:9191-1553713200-1553720400@www.ceist.ie
SUMMARY:Boards of Management Health & Safety/Finance Information Seminars (Cork)
DESCRIPTION:CEIST are organising  Finance/Health & Safety Information Seminars for Boards of Management in March and April 2019. \nThe Seminars will take place from 7.00p.m. – 9.00p.m. each evening with Tea/Coffee & Sandwiches available from 6.30p.m. \nDates and venues:  \n\nMonday March 25th                       –              CityNorth Hotel\, Gormanston\nTuesday 26th March                       –              Newpark Hotel\, Kilkenny\nWednesday 27th March                 –              Springfort Hall\, Mallow\nThursday 28th March                     –              Maldron Hotel\, Oranmore\nThursday 11th April                        –             Sligo Park Hotel\, Sligo\n\n  \nPlease click here to make your reservation \n 
URL:https://www.ceist.ie/event/health-safety-finance-information-seminars-for-boards-of-management-cork/
LOCATION:Springfor Hall Hotel\, Springfor Hall Hotel\, Twopothouse\, Mallow\, Co. Cork\, Cork\, P51 YP96\, Ireland
END:VEVENT
BEGIN:VEVENT
DTSTART;TZID=Europe/Dublin:20190327T190000
DTEND;TZID=Europe/Dublin:20190327T210000
DTSTAMP:20260419T213757
CREATED:20190311T113349Z
LAST-MODIFIED:20190311T115411Z
UID:9186-1553713200-1553720400@www.ceist.ie
SUMMARY:Boards of Management Health & Safety/Finance Information Seminars (Kilkenny)
DESCRIPTION:CEIST are organising  Finance/Health & Safety Information Seminars for Boards of Management in March and April 2019. \nThe Seminars will take place from 7.00p.m. – 9.00p.m. each evening with Tea/Coffee & Sandwiches available from 6.30p.m. \nDates and venues:  \n\nMonday March 25th                       –              CityNorth Hotel\, Gormanston\nTuesday 26th March                       –              Newpark Hotel\, Kilkenny\nWednesday 27th March                 –              Springfort Hall\, Mallow\nThursday 28th March                     –              Maldron Hotel\, Oranmore\nThursday 11th April                        –             Sligo Park Hotel\, Sligo\n\n  \nPlease click here to make your reservation \n 
URL:https://www.ceist.ie/event/health-safety-finance-information-seminars-for-boards-of-management/
LOCATION:Newpark Hotel\, Kilkenny\, Newpark Hotel\, Castlecomer Rd\, Newpark Lower\, Kilkenny\, R95KP63\, Ireland
END:VEVENT
BEGIN:VEVENT
DTSTART;TZID=Europe/Dublin:20190325T190000
DTEND;TZID=Europe/Dublin:20190325T210000
DTSTAMP:20260419T213757
CREATED:20190211T153821Z
LAST-MODIFIED:20190311T115214Z
UID:8606-1553540400-1553547600@www.ceist.ie
SUMMARY:Boards of Management Health & Safety/Finance Information Seminars (Meath)
DESCRIPTION:CEIST are organising  Finance/Health & Safety Information Seminars for Boards of Management in March and April 2019. \nThe Seminars will take place from 7.00p.m. – 9.00p.m. each evening with Tea/Coffee & Sandwiches available from 6.30p.m. \nDates and venues:  \n\nMonday March 25th                       –              CityNorth Hotel\, Gormanston\nTuesday 26th March                       –              Newpark Hotel\, Kilkenny\nWednesday 27th March                 –              Springfort Hall\, Mallow\nThursday 28th March                     –              Maldron Hotel\, Oranmore\nThursday 11th April                        –             Sligo Park Hotel\, Sligo\n\n  \nPlease click here to make your reservation \n 
URL:https://www.ceist.ie/event/finance-health-safety-information-seminars-for-boards-of-management/
LOCATION:CityNorth Hotel\, CityNorth Hotel\, Gormanston\, Co. Meath\, Ireland
END:VEVENT
BEGIN:VEVENT
DTSTART;TZID=Europe/Dublin:20190320T094500
DTEND;TZID=Europe/Dublin:20190320T150000
DTSTAMP:20260419T213757
CREATED:20190226T150452Z
LAST-MODIFIED:20190226T171535Z
UID:8807-1553075100-1553094000@www.ceist.ie
SUMMARY:CEIST Student Leadership Conference 2019
DESCRIPTION:The Annual CEIST Student Leadership Conference will be held on Wednesday 20th March 2019 at DCU St. Patrick’s Campus\, Drumcondra\, Dublin 9. This is a great opportunity for students from all CEIST schools to come together and celebrate being part of the CEIST community. \nSign-in and refreshments will be available from 9.00am. The event itself will start at 9.45am and will conclude at 3.00pm. \nLunch will be provided and the event is free of charge. \nPlease click here to register for this event. \nClick here for Flyer
URL:https://www.ceist.ie/event/ceist-student-leadership-conference-2019/
LOCATION:Co. Westmeath
ATTACH;FMTTYPE=image/jpeg:https://www.ceist.ie/wp-content/uploads/2019/02/SLC2019.jpg
END:VEVENT
BEGIN:VEVENT
DTSTART;VALUE=DATE:20190123
DTEND;VALUE=DATE:20190124
DTSTAMP:20260419T213757
CREATED:20181115T151820Z
LAST-MODIFIED:20181127T164815Z
UID:7013-1548201600-1548287999@www.ceist.ie
SUMMARY:Leadership in a Catholic School - Spring 2019
DESCRIPTION:The Spring CEIST Middle Leadership Course will be running over four days:            \n\nWed 23rd January from 5.00pm to 8.00pm\nSat 2nd February from 10am to 4.30pm\nWed 20th February from 5.00pm to 8.00pm\nSat 2nd March from 10am to 4.00pm\n\nPlease click here for full event details. \n  \nHow to apply? \n\nFill in the application form below.\nNote: Only the the first 36 applications will be accepted.\n\n  \nApplication Form \nSorry all applications have been filled. \nNote: Once the on-line form reached 36 applications it will automatically closed and no more applications were accepted.
URL:https://www.ceist.ie/event/leadership-in-a-catholic-school-spring-2019/
LOCATION:Kilkenny Education Centre\, Kilkenny Education Centre\, Callan Road\,\, Kilkenny\, R95 RH97\, Ireland
ATTACH;FMTTYPE=image/jpeg:https://www.ceist.ie/wp-content/uploads/2018/05/Ceist-Purple-3x6ft.jpg
END:VEVENT
BEGIN:VEVENT
DTSTART;TZID=Europe/Dublin:20190121T110000
DTEND;TZID=Europe/Dublin:20190121T130000
DTSTAMP:20260419T213757
CREATED:20181218T151554Z
LAST-MODIFIED:20190114T123324Z
UID:7852-1548068400-1548075600@www.ceist.ie
SUMMARY:Deputy Principals Network Meetings – January 2019 (Limerick)
DESCRIPTION:The Deputy Principals Network Meetings will be held in three separate venues throughout January 2019. \nAll meetings will run from 11.00am to 1.00pm\, with Tea/Coffee available from 10.30am \n  \nMeeting dates are locations are listed below: \n\nJanuary 21st – Limerick Education Centre\nJanuary 22nd – Kilkenny Education Centre\nJanuary 28th – Navan Education Centre.\n\n  \nPlease click here to register for attendance. 
URL:https://www.ceist.ie/event/deputy-principals-network-meetings-january-2019/
LOCATION:Limerick Education Centre\, Limerick Education Centre\, Marshal House\, Dooradoyle Road\, Limerick
END:VEVENT
BEGIN:VEVENT
DTSTART;VALUE=DATE:20181030
DTEND;VALUE=DATE:20181031
DTSTAMP:20260419T213757
CREATED:20180914T115720Z
LAST-MODIFIED:20180914T115757Z
UID:5955-1540857600-1540943999@www.ceist.ie
SUMMARY:CEIST Manual Handling Training
DESCRIPTION:Manual Handling training – for caretakers\, SNAs\, cleaning staff or other staff members. \nThis training will take place on Tuesday\, October 30th in the Clayton Silver Springs Hotel Cork and on Wednesday October 31st in the Clayton Liffey Valley Hotel Dublin. Both sessions will be from 10.00 am – 12.30 pm and will be delivered by Adrian Sutton and sponsored by ALLIANZ. Please note that this training is very enjoyable and will be useful for home as well as school life. Schools are asked to log that they have offered this training to staff. \nClick here to register.
URL:https://www.ceist.ie/event/ceist-manual-handling-training/
LOCATION:Co. Westmeath
END:VEVENT
BEGIN:VEVENT
DTSTART;TZID=Europe/Dublin:20181023T100000
DTEND;TZID=Europe/Dublin:20181023T140000
DTSTAMP:20260419T213757
CREATED:20181008T105439Z
LAST-MODIFIED:20181008T105605Z
UID:6501-1540288800-1540303200@www.ceist.ie
SUMMARY:CEIST Chairpersons Day 2018
DESCRIPTION:The CEIST Chairpersons Day 2018 will be held in the Tullamore Court Hotel in Offaly on Tuesday October 23rd. Please click link below to register for this event. \nClick her to register. 
URL:https://www.ceist.ie/event/ceist-chairpersons-day-2018/
LOCATION:Tullamore Court Hotel\, Tullamore Court Hotel\, O'Moore Street\, Tullamore\, Co. Offaly\, R35D406\, Ireland
END:VEVENT
BEGIN:VEVENT
DTSTART;VALUE=DATE:20180927
DTEND;VALUE=DATE:20180929
DTSTAMP:20260419T213757
CREATED:20180904T120152Z
LAST-MODIFIED:20190829T151442Z
UID:5359-1538006400-1538179199@www.ceist.ie
SUMMARY:CEIST Annual Education Conference 2018
DESCRIPTION:The CEIST Annual Education Conference 2018 will be held in the Hodson Bay Hotel\, Roscommon and will run for two days (Thursday 27th and Friday 28th September). \n  \nSchedule  \nPlease click here to view full conference schedule. \n  \nRegistration  \nPlease contact the CEIST office to register on 016510350. \n  \nPayment Details \nPlease click here for payment details.
URL:https://www.ceist.ie/event/ceist-conference-2018/
LOCATION:Hodson Bay Hotel Athlone\, Hodson Bay Hotel\, Roscommon Road\, Athlone\, Co. Westmeath\, N37 XR82\, Ireland
END:VEVENT
BEGIN:VEVENT
DTSTART;TZID=Europe/Dublin:20180912T150000
DTEND;TZID=Europe/Dublin:20180912T180000
DTSTAMP:20260419T213757
CREATED:20180822T104224Z
LAST-MODIFIED:20180830T110304Z
UID:5282-1536764400-1536775200@www.ceist.ie
SUMMARY:Ethos Induction for Newly Appointed Teachers in CEIST Schools - 2018
DESCRIPTION:Please click link below to register for Ethos Induction for Newly Appointed Teachers in CEIST Schools – 2018 \nRegistration Form \n 
URL:https://www.ceist.ie/event/ethos-induction-for-newly-appointed-teachers-in-ceist-schools-2018/
LOCATION:The Killeshin Hotel & Leisure Club\, The Killeshin Hotel & Leisure Club\, Dublin Road\, Portlaoise\, Laois\, Ireland
ATTACH;FMTTYPE=image/png:https://www.ceist.ie/wp-content/uploads/2018/08/Form-2017-Header.png
END:VEVENT
BEGIN:VEVENT
DTSTART;TZID=Europe/Dublin:20180815T100000
DTEND;TZID=Europe/Dublin:20180817T170000
DTSTAMP:20260419T213757
CREATED:20180501T133747Z
LAST-MODIFIED:20180511T144032Z
UID:4463-1534327200-1534525200@www.ceist.ie
SUMMARY:Leadership in a Catholic School Course
DESCRIPTION:The Summer CEIST Middle Leadership Course will be running over three days:            \n\nWed 15th August from 10am to 5.00pm\nThurs 16th August from 9am to 4.30pm\nFriday 17th August from 9am to 2.00pm\n\n Please click here for full event details. \n  \nHow to apply? \n\nFill in the application form below.\nNote: Only the the first 36 applications will be accepted.\n\n  \nApplication Form \nClick HERE to Register \n 
URL:https://www.ceist.ie/event/leadership-in-a-catholic-school-summer-2018/
LOCATION:The Emmaus Centre\, Swords\, Co. Dublin\, The Emmaus Centre\, Swords\, Dublin\, K67Y274\, Ireland
ATTACH;FMTTYPE=image/jpeg:https://www.ceist.ie/wp-content/uploads/2018/05/Ceist-Purple-3x6ft.jpg
END:VEVENT
BEGIN:VEVENT
DTSTART;TZID=Europe/Dublin:20170928T110000
DTEND;TZID=Europe/Dublin:20170929T140000
DTSTAMP:20260419T213757
CREATED:20170418T124047Z
LAST-MODIFIED:20170913T091915Z
UID:416-1506596400-1506693600@www.ceist.ie
SUMMARY:CEIST Education Conference
DESCRIPTION:The Eleventh Annual CEIST Education Conference will be held in the Hodson Bay Hotel\, Athlone\, on Thursday\, 29th September and Friday\, 30th September\, 2016. The theme for this year’s conference is ‘Living the Message of Mercy in Catholic Schools‘. \nThe CEIST Annual Education Conference provides an opportunity for our School Principals\, Deputy Principals and Schools Boards of Management Chairpersons to network\, share ideas and best practice.
URL:https://www.ceist.ie/event/ceist-education-conference/
LOCATION:Hodson Bay Hotel Athlone\, Hodson Bay Hotel\, Roscommon Road\, Athlone\, Co. Westmeath\, N37 XR82\, Ireland
ATTACH;FMTTYPE=image/jpeg:https://www.ceist.ie/wp-content/uploads/2017/09/book.jpg
END:VEVENT
BEGIN:VEVENT
DTSTART;TZID=UTC:20170414T100000
DTEND;TZID=UTC:20170414T150000
DTSTAMP:20260419T213757
CREATED:20170312T083401Z
LAST-MODIFIED:20170412T111251Z
UID:207-1492164000-1492182000@www.ceist.ie
SUMMARY:CEIST Schools Student Leadership Conference
DESCRIPTION:CEIST Schools Student Leadership Conference – Tuesday April 14th 2017 \nRegistration will be available from 9.30am and the event itself will start at 10.00 am and be concluded by 3.00 pm. \nLunch will be provided and the event is free of charge. \n\n\n                 \n \n                        Event EnquiryFull NameEmail\n                            \n                        PhoneSchool NameSchool AddressComments
URL:https://www.ceist.ie/event/ceist-schools-student-leadership-conference/
LOCATION:Co. Westmeath
CATEGORIES:Another Event Category,Conferences
END:VEVENT
END:VCALENDAR