BEGIN:VCALENDAR
VERSION:2.0
PRODID:-//CEIST | Catholic Education | An Irish Schools Trust - ECPv6.15.13.1//NONSGML v1.0//EN
CALSCALE:GREGORIAN
METHOD:PUBLISH
X-ORIGINAL-URL:https://www.ceist.ie
X-WR-CALDESC:Events for CEIST | Catholic Education | An Irish Schools Trust
REFRESH-INTERVAL;VALUE=DURATION:PT1H
X-Robots-Tag:noindex
X-PUBLISHED-TTL:PT1H
BEGIN:VTIMEZONE
TZID:Europe/Dublin
BEGIN:STANDARD
TZOFFSETFROM:+0000
TZOFFSETTO:+0100
TZNAME:IST
DTSTART:20210328T010000
END:STANDARD
BEGIN:DAYLIGHT
TZOFFSETFROM:+0100
TZOFFSETTO:+0000
TZNAME:GMT
DTSTART:20211031T010000
END:DAYLIGHT
BEGIN:STANDARD
TZOFFSETFROM:+0000
TZOFFSETTO:+0100
TZNAME:IST
DTSTART:20220327T010000
END:STANDARD
BEGIN:DAYLIGHT
TZOFFSETFROM:+0100
TZOFFSETTO:+0000
TZNAME:GMT
DTSTART:20221030T010000
END:DAYLIGHT
BEGIN:STANDARD
TZOFFSETFROM:+0000
TZOFFSETTO:+0100
TZNAME:IST
DTSTART:20230326T010000
END:STANDARD
BEGIN:DAYLIGHT
TZOFFSETFROM:+0100
TZOFFSETTO:+0000
TZNAME:GMT
DTSTART:20231029T010000
END:DAYLIGHT
END:VTIMEZONE
BEGIN:VEVENT
DTSTART;TZID=Europe/Dublin:20220505T140000
DTEND;TZID=Europe/Dublin:20220505T160000
DTSTAMP:20260421T223210
CREATED:20220422T122709Z
LAST-MODIFIED:20220422T122709Z
UID:20542-1651759200-1651766400@www.ceist.ie
SUMMARY:RE/RSE Teacher Online Seminar
DESCRIPTION:Join us for our annual gathering of RE teachers in CEIST schools. This is an opportunity to dialogue with colleagues and share good practice. The event will be online and offered twice to accommodate as many as possible. The theme for the seminar is: \nRelationships and Sexuality Education and Catholic Schools. \nThe seminar is hosted by Dr Aiveen Mullally from Marino Institute of Education and the speaker is Vivek da Silva from DCU. \nVivek da Silva is an assistant professor in Religious Education in DCU. He is a member of the Synodal Pathway Steering Committee\, and of the Council for Catechetics’ Working Group on Laudato Si’. His current area of research is Relationship and Sexuality Education in Catholic Schools in Ireland. \nRegister Here
URL:https://www.ceist.ie/event/re-rse-teacher-online-seminar/
LOCATION:Co. Offaly
END:VEVENT
BEGIN:VEVENT
DTSTART;TZID=Europe/Dublin:20220511T140000
DTEND;TZID=Europe/Dublin:20220511T160000
DTSTAMP:20260421T223210
CREATED:20220422T123012Z
LAST-MODIFIED:20220422T123012Z
UID:20545-1652277600-1652284800@www.ceist.ie
SUMMARY:RE/RSE Teacher Online Seminar
DESCRIPTION:Join us for our annual gathering of RE teachers in CEIST schools. This is an opportunity to dialogue with colleagues and share good practice. The event will be online and offered twice to accommodate as many as possible. The theme for the seminar is: \nRelationships and Sexuality Education and Catholic Schools. \nThe seminar is hosted by Dr Aiveen Mullally from Marino Institute of Education and the speaker is Vivek da Silva from DCU. \nVivek da Silva is an assistant professor in Religious Education in DCU. He is a member of the Synodal Pathway Steering Committee\, and of the Council for Catechetics’ Working Group on Laudato Si’. His current area of research is Relationship and Sexuality Education in Catholic Schools in Ireland. \nRegister Here
URL:https://www.ceist.ie/event/re-rse-teacher-online-seminar-2/
LOCATION:Co. Offaly
END:VEVENT
END:VCALENDAR