BEGIN:VCALENDAR
VERSION:2.0
PRODID:-//CEIST | Catholic Education | An Irish Schools Trust - ECPv6.15.13.1//NONSGML v1.0//EN
CALSCALE:GREGORIAN
METHOD:PUBLISH
X-ORIGINAL-URL:https://www.ceist.ie
X-WR-CALDESC:Events for CEIST | Catholic Education | An Irish Schools Trust
REFRESH-INTERVAL;VALUE=DURATION:PT1H
X-Robots-Tag:noindex
X-PUBLISHED-TTL:PT1H
BEGIN:VTIMEZONE
TZID:Europe/Dublin
BEGIN:STANDARD
TZOFFSETFROM:+0000
TZOFFSETTO:+0100
TZNAME:IST
DTSTART:20210328T010000
END:STANDARD
BEGIN:DAYLIGHT
TZOFFSETFROM:+0100
TZOFFSETTO:+0000
TZNAME:GMT
DTSTART:20211031T010000
END:DAYLIGHT
BEGIN:STANDARD
TZOFFSETFROM:+0000
TZOFFSETTO:+0100
TZNAME:IST
DTSTART:20220327T010000
END:STANDARD
BEGIN:DAYLIGHT
TZOFFSETFROM:+0100
TZOFFSETTO:+0000
TZNAME:GMT
DTSTART:20221030T010000
END:DAYLIGHT
BEGIN:STANDARD
TZOFFSETFROM:+0000
TZOFFSETTO:+0100
TZNAME:IST
DTSTART:20230326T010000
END:STANDARD
BEGIN:DAYLIGHT
TZOFFSETFROM:+0100
TZOFFSETTO:+0000
TZNAME:GMT
DTSTART:20231029T010000
END:DAYLIGHT
END:VTIMEZONE
BEGIN:VEVENT
DTSTART;TZID=Europe/Dublin:20221003T100000
DTEND;TZID=Europe/Dublin:20221006T140000
DTSTAMP:20260421T144023
CREATED:20220817T113850Z
LAST-MODIFIED:20220817T114331Z
UID:20760-1664791200-1665064800@www.ceist.ie
SUMMARY:Child Protection Seminar (Phase 2)
DESCRIPTION:Child Protection Seminar (Phase 2) will be offered at the following locations during the first week of October 2022. \nMonday 3rd October – Ardboyne Hotel\, Navan \nTuesday 4th October – Killeshin Hotel\, Portlaoise \nWednesday 5th October – Woodlands Hotel\, Limerick \nThursday 6th October – Hodson Bay Hotel\, Athlone \nTo reserve a place at any of these sessions please complete the form at https://forms.office.com/r/FfsDZYHenR
URL:https://www.ceist.ie/event/child-protection-seminar-phase-2/
LOCATION:Co. Offaly
END:VEVENT
BEGIN:VEVENT
DTSTART;TZID=Europe/Dublin:20221011T100000
DTEND;TZID=Europe/Dublin:20221011T153000
DTSTAMP:20260421T144023
CREATED:20220817T115129Z
LAST-MODIFIED:20220817T115129Z
UID:20762-1665482400-1665502200@www.ceist.ie
SUMMARY:Induction for Newly Appointed Principals
DESCRIPTION:We look forward to warmly welcoming newly appointed Principals at an introductory session on Tuesday 11th October from 10am – 3.30pm at the Hodson Bay Hotel.
URL:https://www.ceist.ie/event/induction-for-newly-appointed-principals/
LOCATION:Hodson Bay Hotel Athlone\, Hodson Bay Hotel\, Roscommon Road\, Athlone\, Co. Westmeath\, N37 XR82\, Ireland
END:VEVENT
END:VCALENDAR