BEGIN:VCALENDAR
VERSION:2.0
PRODID:-//CEIST | Catholic Education | An Irish Schools Trust - ECPv6.15.13.1//NONSGML v1.0//EN
CALSCALE:GREGORIAN
METHOD:PUBLISH
X-ORIGINAL-URL:https://www.ceist.ie
X-WR-CALDESC:Events for CEIST | Catholic Education | An Irish Schools Trust
REFRESH-INTERVAL;VALUE=DURATION:PT1H
X-Robots-Tag:noindex
X-PUBLISHED-TTL:PT1H
BEGIN:VTIMEZONE
TZID:Europe/Dublin
BEGIN:STANDARD
TZOFFSETFROM:+0000
TZOFFSETTO:+0100
TZNAME:IST
DTSTART:20210328T010000
END:STANDARD
BEGIN:DAYLIGHT
TZOFFSETFROM:+0100
TZOFFSETTO:+0000
TZNAME:GMT
DTSTART:20211031T010000
END:DAYLIGHT
BEGIN:STANDARD
TZOFFSETFROM:+0000
TZOFFSETTO:+0100
TZNAME:IST
DTSTART:20220327T010000
END:STANDARD
BEGIN:DAYLIGHT
TZOFFSETFROM:+0100
TZOFFSETTO:+0000
TZNAME:GMT
DTSTART:20221030T010000
END:DAYLIGHT
BEGIN:STANDARD
TZOFFSETFROM:+0000
TZOFFSETTO:+0100
TZNAME:IST
DTSTART:20230326T010000
END:STANDARD
BEGIN:DAYLIGHT
TZOFFSETFROM:+0100
TZOFFSETTO:+0000
TZNAME:GMT
DTSTART:20231029T010000
END:DAYLIGHT
END:VTIMEZONE
BEGIN:VEVENT
DTSTART;TZID=Europe/Dublin:20221206T103000
DTEND;TZID=Europe/Dublin:20221206T143000
DTSTAMP:20260421T113730
CREATED:20221103T205816Z
LAST-MODIFIED:20221103T205816Z
UID:20975-1670322600-1670337000@www.ceist.ie
SUMMARY:Principal Regional Network Meetings
DESCRIPTION:December will see a return to in-person Principal Regional Network Meetings after a period of three years and we are all looking forward to the personal interactions which are so valuable. \nThe Principal Regional Network meetings will be held in four locations from 10:30am to 2:30pm including lunch: \n\nTuesday 6th December – Ardboyne Hotel\, Navan.\nWednesday 7th December – Midland Park Hotel\, Portlaoise.\nMonday 12th December – Sheraton Hotel\, Athlone. (Change from Training & Events Calendar)\nTuesday 13th December – Woodlands Hotel\, Adare.\n\n  \nPlease register your attendance by clicking on this link Principal Network Meetings Registration.
URL:https://www.ceist.ie/event/principal-regional-network-meetings/
LOCATION:Ardboyne Hotel\, Navan\, Ardboyne Hotel\, Navan\, Navan\, Co. Meath\, C15 C9YA\, Ireland
END:VEVENT
BEGIN:VEVENT
DTSTART;TZID=Europe/Dublin:20221207T103000
DTEND;TZID=Europe/Dublin:20221207T143000
DTSTAMP:20260421T113730
CREATED:20221103T210128Z
LAST-MODIFIED:20221103T210128Z
UID:20978-1670409000-1670423400@www.ceist.ie
SUMMARY:Principal Regional Network Meetings
DESCRIPTION:The Principal Regional Network meetings will be held in four locations from 10:30am to 2:30pm including lunch: \n\nTuesday 6th December – Ardboyne Hotel\, Navan.\nWednesday 7th December – Midland Park Hotel\, Portlaoise.\nMonday 12th December – Sheraton Hotel\, Athlone. (Change from Training & Events Calendar)\nTuesday 13th December – Woodlands Hotel\, Adare.\n\nPlease register your attendance by clicking on this link Principal Network Meetings Registration.
URL:https://www.ceist.ie/event/principal-regional-network-meetings-2/
LOCATION:Midlands Park Hotel\, Jessop Street\, Portlaoise\, Co. Laois\, R32 KV20\, Ireland
END:VEVENT
BEGIN:VEVENT
DTSTART;TZID=Europe/Dublin:20221212T103000
DTEND;TZID=Europe/Dublin:20221212T143000
DTSTAMP:20260421T113730
CREATED:20221103T210239Z
LAST-MODIFIED:20221103T210239Z
UID:20980-1670841000-1670855400@www.ceist.ie
SUMMARY:Principal Regional Network Meetings
DESCRIPTION:The Principal Regional Network meetings will be held in four locations from 10:30am to 2:30pm including lunch: \n\nTuesday 6th December – Ardboyne Hotel\, Navan.\nWednesday 7th December – Midland Park Hotel\, Portlaoise.\nMonday 12th December – Sheraton Hotel\, Athlone. (Change from Training & Events Calendar)\nTuesday 13th December – Woodlands Hotel\, Adare.\n\nPlease register your attendance by clicking on this link Principal Network Meetings Registration.
URL:https://www.ceist.ie/event/principal-regional-network-meetings-3/
LOCATION:Sheraton Hotel Athlone\, Sheraton Hotel\, Athlone\, Co. Westmeath\, Ireland
END:VEVENT
BEGIN:VEVENT
DTSTART;TZID=Europe/Dublin:20221213T103000
DTEND;TZID=Europe/Dublin:20221213T143000
DTSTAMP:20260421T113730
CREATED:20221103T210524Z
LAST-MODIFIED:20221208T163010Z
UID:20982-1670927400-1670941800@www.ceist.ie
SUMMARY:Principal Regional Network Meetings
DESCRIPTION:The Principal Regional Network meetings will be held in four locations from 10:30am to 2:30pm including lunch: \n\nTuesday 6th December – Ardboyne Hotel\, Navan.\nWednesday 7th December – Midland Park Hotel\, Portlaoise.\nMonday 12th December – Sheraton Hotel\, Athlone. (Change from Training & Events Calendar)\nTuesday 13th December – Woodlands Hotel\, Adare.\n\nPlease register your attendance by clicking on this link Principal Network Meetings Registration.
URL:https://www.ceist.ie/event/principal-regional-network-meetings-4/
LOCATION:Woodlands Hotel\, Adare\, Woodlands Hotel\, Adare
END:VEVENT
BEGIN:VEVENT
DTSTART;TZID=Europe/Dublin:20221214T080000
DTEND;TZID=Europe/Dublin:20221214T170000
DTSTAMP:20260421T113730
CREATED:20221214T105751Z
LAST-MODIFIED:20221214T105751Z
UID:21079-1671004800-1671037200@www.ceist.ie
SUMMARY:Principal Regional Network Meetings (Re-Scheduled)
DESCRIPTION:The Principal Regional Network meetings rescheduled from December will be held in two locations from 10:30am to 2:30pm including lunch: \n\nTuesday 7th February – Sheraton Hotel\, Athlone.\nWednesday 8th February – Woodlands Hotel\, Adare.\n\nPlease register your attendance by clicking on this link https://forms.office.com/e/Cw4cqypnP3
URL:https://www.ceist.ie/event/principal-regional-network-meetings-re-scheduled/
LOCATION:Co. Offaly
END:VEVENT
END:VCALENDAR