BEGIN:VCALENDAR
VERSION:2.0
PRODID:-//CEIST | Catholic Education | An Irish Schools Trust - ECPv6.15.13.1//NONSGML v1.0//EN
CALSCALE:GREGORIAN
METHOD:PUBLISH
X-WR-CALNAME:CEIST | Catholic Education | An Irish Schools Trust
X-ORIGINAL-URL:https://www.ceist.ie
X-WR-CALDESC:Events for CEIST | Catholic Education | An Irish Schools Trust
REFRESH-INTERVAL;VALUE=DURATION:PT1H
X-Robots-Tag:noindex
X-PUBLISHED-TTL:PT1H
BEGIN:VTIMEZONE
TZID:Europe/Dublin
BEGIN:STANDARD
TZOFFSETFROM:+0000
TZOFFSETTO:+0100
TZNAME:IST
DTSTART:20220327T010000
END:STANDARD
BEGIN:DAYLIGHT
TZOFFSETFROM:+0100
TZOFFSETTO:+0000
TZNAME:GMT
DTSTART:20221030T010000
END:DAYLIGHT
BEGIN:STANDARD
TZOFFSETFROM:+0000
TZOFFSETTO:+0100
TZNAME:IST
DTSTART:20230326T010000
END:STANDARD
BEGIN:DAYLIGHT
TZOFFSETFROM:+0100
TZOFFSETTO:+0000
TZNAME:GMT
DTSTART:20231029T010000
END:DAYLIGHT
BEGIN:STANDARD
TZOFFSETFROM:+0000
TZOFFSETTO:+0100
TZNAME:IST
DTSTART:20240331T010000
END:STANDARD
BEGIN:DAYLIGHT
TZOFFSETFROM:+0100
TZOFFSETTO:+0000
TZNAME:GMT
DTSTART:20241027T010000
END:DAYLIGHT
END:VTIMEZONE
BEGIN:VEVENT
DTSTART;TZID=Europe/Dublin:20230124T103000
DTEND;TZID=Europe/Dublin:20230124T143000
DTSTAMP:20260421T100930
CREATED:20221214T110536Z
LAST-MODIFIED:20221214T110536Z
UID:21081-1674556200-1674570600@www.ceist.ie
SUMMARY:Deputy Principal Network Meetings
DESCRIPTION:The Principal Regional Network meetings will be held in four locations from 10:30am to 2:30pm including lunch: \n\nTuesday 24th January – Sheraton Hotel\, Athlone\nMonday 30th January – Castletroy Park Hotel\, Limerick\nTuesday 31st January – Osprey Hotel\, Naas\n\nPlease register your attendance by clicking on this link https://forms.office.com/e/jwUjJN2jpL \n 
URL:https://www.ceist.ie/event/deputy-principal-network-meetings/
LOCATION:Sheraton Hotel Athlone\, Sheraton Hotel\, Athlone\, Co. Westmeath\, Ireland
END:VEVENT
BEGIN:VEVENT
DTSTART;TZID=Europe/Dublin:20230125T170000
DTEND;TZID=Europe/Dublin:20230125T190000
DTSTAMP:20260421T100930
CREATED:20221222T092702Z
LAST-MODIFIED:20221222T092702Z
UID:21114-1674666000-1674673200@www.ceist.ie
SUMMARY:Leaders in CEIST Schools
DESCRIPTION:As you are aware CEIST has run  a Middle Leadership Programme for a number of years. Over the last two years this was done online due to pandemic restrictions. During the last few months the CEIST Team has reviewed\, developed and rebranded the programme as the “Leaders in CEIST Schools“ Programme. This revised programme retains many of the best features of our previous programmes while updating and improving on other areas. It will be run on a hybrid basis with one Zoom session on 25th January and two in person sessions in the Limerick area\, Saturday 11th February 2023 at the Castle Oaks Hotel\, Castleconnell and Saturday 25th February 2023 at the Limerick Education Centre. To ensure maximum engagement of participants we are limiting enrolment to forty.  Participants must be available to attend all three sessions. \nRegistration for the Spring 2023 session will open at 4pm on Monday next\, 12th December and will close automatically when the limit is reached. \nRegister your interest in ‘Leaders in CEIST Schools – LCS Spring 2023 Session 
URL:https://www.ceist.ie/event/leaders-in-ceist-schools-2/
LOCATION:Co. Offaly
END:VEVENT
BEGIN:VEVENT
DTSTART;TZID=Europe/Dublin:20230128T103000
DTEND;TZID=Europe/Dublin:20230128T140000
DTSTAMP:20260421T100930
CREATED:20230116T095052Z
LAST-MODIFIED:20230116T101741Z
UID:21148-1674901800-1674914400@www.ceist.ie
SUMMARY:Finance Training for Board of Management Members
DESCRIPTION:We are delighted to provide training in the area of finance for Board of Management members and School Support Staff.  We look forward to meeting you at one of the events\, to answer any questions you may have and provide assistance in this area.\nTime:                                   Tea/Coffee available from 10.30am.\nTraining commences:      11.00am.\nTraining finishes:             1.00pm followed by lunch. \nRegister your attendance at the attached link – Registration Form for Finance Training
URL:https://www.ceist.ie/event/finance-training-for-board-of-management-members/
LOCATION:Clayton Hotel\, Liffey Valley\, Clayton Hotel\, Liffey Valley\, Fonthill Road\, Liffey Valley\, Dublin D22\, X4W6\, Ireland
END:VEVENT
BEGIN:VEVENT
DTSTART;TZID=Europe/Dublin:20230130T103000
DTEND;TZID=Europe/Dublin:20230130T143000
DTSTAMP:20260421T100930
CREATED:20221214T110826Z
LAST-MODIFIED:20221214T110826Z
UID:21085-1675074600-1675089000@www.ceist.ie
SUMMARY:Deputy Principal Network Meetings
DESCRIPTION:The Principal Regional Network meetings will be held in four locations from 10:30am to 2:30pm including lunch: \n\nTuesday 24th January – Sheraton Hotel\, Athlone\nMonday 30th January – Castletroy Park Hotel\, Limerick\nTuesday 31st January – Osprey Hotel\, Naas\n\nPlease register your attendance by clicking on this link https://forms.office.com/e/jwUjJN2jpL \n 
URL:https://www.ceist.ie/event/deputy-principal-network-meetings-2/
LOCATION:Co. Offaly
END:VEVENT
BEGIN:VEVENT
DTSTART;TZID=Europe/Dublin:20230131T103000
DTEND;TZID=Europe/Dublin:20230131T143000
DTSTAMP:20260421T100930
CREATED:20221214T110950Z
LAST-MODIFIED:20221214T110950Z
UID:21087-1675161000-1675175400@www.ceist.ie
SUMMARY:Deputy Principal Network Meetings
DESCRIPTION:The Principal Regional Network meetings will be held in four locations from 10:30am to 2:30pm including lunch: \n\nTuesday 24th January – Sheraton Hotel\, Athlone\nMonday 30th January – Castletroy Park Hotel\, Limerick\nTuesday 31st January – Osprey Hotel\, Naas\n\nPlease register your attendance by clicking on this link https://forms.office.com/e/jwUjJN2jpL
URL:https://www.ceist.ie/event/deputy-principal-network-meetings-3/
LOCATION:Co. Offaly
END:VEVENT
END:VCALENDAR