BEGIN:VCALENDAR
VERSION:2.0
PRODID:-//CEIST | Catholic Education | An Irish Schools Trust - ECPv6.15.13.1//NONSGML v1.0//EN
CALSCALE:GREGORIAN
METHOD:PUBLISH
X-ORIGINAL-URL:https://www.ceist.ie
X-WR-CALDESC:Events for CEIST | Catholic Education | An Irish Schools Trust
REFRESH-INTERVAL;VALUE=DURATION:PT1H
X-Robots-Tag:noindex
X-PUBLISHED-TTL:PT1H
BEGIN:VTIMEZONE
TZID:Europe/Dublin
BEGIN:STANDARD
TZOFFSETFROM:+0000
TZOFFSETTO:+0100
TZNAME:IST
DTSTART:20220327T010000
END:STANDARD
BEGIN:DAYLIGHT
TZOFFSETFROM:+0100
TZOFFSETTO:+0000
TZNAME:GMT
DTSTART:20221030T010000
END:DAYLIGHT
BEGIN:STANDARD
TZOFFSETFROM:+0000
TZOFFSETTO:+0100
TZNAME:IST
DTSTART:20230326T010000
END:STANDARD
BEGIN:DAYLIGHT
TZOFFSETFROM:+0100
TZOFFSETTO:+0000
TZNAME:GMT
DTSTART:20231029T010000
END:DAYLIGHT
BEGIN:STANDARD
TZOFFSETFROM:+0000
TZOFFSETTO:+0100
TZNAME:IST
DTSTART:20240331T010000
END:STANDARD
BEGIN:DAYLIGHT
TZOFFSETFROM:+0100
TZOFFSETTO:+0000
TZNAME:GMT
DTSTART:20241027T010000
END:DAYLIGHT
END:VTIMEZONE
BEGIN:VEVENT
DTSTART;TZID=Europe/Dublin:20230307T100000
DTEND;TZID=Europe/Dublin:20230307T143000
DTSTAMP:20260421T071005
CREATED:20221214T111523Z
LAST-MODIFIED:20230306T190945Z
UID:21089-1678183200-1678199400@www.ceist.ie
SUMMARY:R.E. Teachers Gatherings
DESCRIPTION:We look forward to meeting our R.E. Teachers at Gathering around the country in March 2023. \nTuesday 7th March – Osprey Hotel\, Naas \nWednesday 8th March – Woodlands Hotel\, Adare \nThursday 9th March – Hodson Bay Hotel\, Athlone \nRegistration to attend R.E. Teachers Gatherings is available here – Registration Form \nAgenda for the day can be downloaded from here – RE Teachers Gathering March 2023 \n  \nDetails for 2023 Junior Cert Students available for download here \n–  JC RE Certification
URL:https://www.ceist.ie/event/r-e-teachers-gatherings/
LOCATION:Co. Offaly
ATTACH;FMTTYPE=image/png:https://www.ceist.ie/wp-content/uploads/2022/12/R.E.-Teacher-Gathering.png
END:VEVENT
BEGIN:VEVENT
DTSTART;TZID=Europe/Dublin:20230308T100000
DTEND;TZID=Europe/Dublin:20230308T143000
DTSTAMP:20260421T071005
CREATED:20221214T111808Z
LAST-MODIFIED:20230306T190911Z
UID:21091-1678269600-1678285800@www.ceist.ie
SUMMARY:R.E. Teachers Gatherings
DESCRIPTION:We look forward to meeting our R.E. Teachers at Gathering around the country in March 2023. \nTuesday 7th March – Osprey Hotel\, Naas \nWednesday 8th March – Woodlands Hotel\, Adare \nThursday 9th March – Hodson Bay Hotel\, Athlone \nRegistration to attend R.E. Teachers Gatherings is available here – Registration Form \nAgenda for the day can be downloaded from here – RE Teachers Gathering March 2023 \n  \nDetails for 2023 Junior Cert Students available for download here \n–  JC RE Certification
URL:https://www.ceist.ie/event/r-e-teachers-gatherings-2/
LOCATION:Woodlands Hotel\, Adare\, Woodlands Hotel\, Adare
ATTACH;FMTTYPE=image/png:https://www.ceist.ie/wp-content/uploads/2022/12/R.E.-Teacher-Gathering.png
END:VEVENT
BEGIN:VEVENT
DTSTART;TZID=Europe/Dublin:20230309T100000
DTEND;TZID=Europe/Dublin:20230309T143000
DTSTAMP:20260421T071005
CREATED:20221214T112036Z
LAST-MODIFIED:20230306T190839Z
UID:21093-1678356000-1678372200@www.ceist.ie
SUMMARY:R.E. Teachers Gathering
DESCRIPTION:We look forward to meeting our R.E. Teachers at Gathering around the country in March 2023. \nTuesday 7th March – Osprey Hotel\, Naas \nWednesday 8th March – Woodlands Hotel\, Adare \nThursday 9th March – Hodson Bay Hotel\, Athlone \nRegistration to attend R.E. Teachers Gatherings is available here – Registration Form \nAgenda for the day can be downloaded from here – RE Teachers Gathering March 2023 \n  \nDetails for 2023 Junior Cert Students available for download here \n–  JC RE Certification
URL:https://www.ceist.ie/event/r-e-teachers-gathering/
LOCATION:Hodson Bay Hotel Athlone\, Hodson Bay Hotel\, Roscommon Road\, Athlone\, Co. Westmeath\, N37 XR82\, Ireland
ATTACH;FMTTYPE=image/png:https://www.ceist.ie/wp-content/uploads/2022/12/R.E.-Teacher-Gathering.png
END:VEVENT
END:VCALENDAR