BEGIN:VCALENDAR
VERSION:2.0
PRODID:-//CEIST | Catholic Education | An Irish Schools Trust - ECPv6.15.13.1//NONSGML v1.0//EN
CALSCALE:GREGORIAN
METHOD:PUBLISH
X-ORIGINAL-URL:https://www.ceist.ie
X-WR-CALDESC:Events for CEIST | Catholic Education | An Irish Schools Trust
REFRESH-INTERVAL;VALUE=DURATION:PT1H
X-Robots-Tag:noindex
X-PUBLISHED-TTL:PT1H
BEGIN:VTIMEZONE
TZID:Europe/Dublin
BEGIN:STANDARD
TZOFFSETFROM:+0000
TZOFFSETTO:+0100
TZNAME:IST
DTSTART:20220327T010000
END:STANDARD
BEGIN:DAYLIGHT
TZOFFSETFROM:+0100
TZOFFSETTO:+0000
TZNAME:GMT
DTSTART:20221030T010000
END:DAYLIGHT
BEGIN:STANDARD
TZOFFSETFROM:+0000
TZOFFSETTO:+0100
TZNAME:IST
DTSTART:20230326T010000
END:STANDARD
BEGIN:DAYLIGHT
TZOFFSETFROM:+0100
TZOFFSETTO:+0000
TZNAME:GMT
DTSTART:20231029T010000
END:DAYLIGHT
BEGIN:STANDARD
TZOFFSETFROM:+0000
TZOFFSETTO:+0100
TZNAME:IST
DTSTART:20240331T010000
END:STANDARD
BEGIN:DAYLIGHT
TZOFFSETFROM:+0100
TZOFFSETTO:+0000
TZNAME:GMT
DTSTART:20241027T010000
END:DAYLIGHT
END:VTIMEZONE
BEGIN:VEVENT
DTSTART;TZID=Europe/Dublin:20231011T100000
DTEND;TZID=Europe/Dublin:20231011T140000
DTSTAMP:20260420T214924
CREATED:20230831T135601Z
LAST-MODIFIED:20230901T093304Z
UID:21782-1697018400-1697032800@www.ceist.ie
SUMMARY:Child Protection Training for new to the role DLP/DDLP
DESCRIPTION:This event aims to educate those new to the roles of DLP & DDLP. The topics that will be covered at this event include the following: \n\nReporting Child Protection concerns and Role of DLP\nCPOR and recording it in BoM minutes\nBoM Obligations\nChild Protection Inspections (CPSI)\nRecord Keeping\n\n 
URL:https://www.ceist.ie/event/child-protection-training-for-new-to-the-role-dlp-ddlp/
LOCATION:Mullingar Park Hotel\, Mullingar Park Hotel \,Dublin Rd\, Marlinstown\, Mullingar\, Westmeath\, N91 A4EP\, Ireland
ATTACH;FMTTYPE=image/png:https://www.ceist.ie/wp-content/uploads/2023/08/Child-Protection.png
END:VEVENT
BEGIN:VEVENT
DTSTART;TZID=Europe/Dublin:20231023T100000
DTEND;TZID=Europe/Dublin:20231023T153000
DTSTAMP:20260420T214924
CREATED:20230925T091736Z
LAST-MODIFIED:20230925T091736Z
UID:21909-1698055200-1698075000@www.ceist.ie
SUMMARY:Induction For Newly appointed Principals Day One
DESCRIPTION:Our support for new principals will include contributions from the CEIST team and from experienced school leaders. \nAreas covers include: \n\nBeing a Leader in a Faith School\nYour Role as Secretary to the Board of Management\nPartition support for new leaders\nReal Life Practical Scenarios
URL:https://www.ceist.ie/event/induction-for-newly-appointed-principals-day-one/
LOCATION:Hodson Bay Hotel Athlone\, Hodson Bay Hotel\, Roscommon Road\, Athlone\, Co. Westmeath\, N37 XR82\, Ireland
ATTACH;FMTTYPE=image/png:https://www.ceist.ie/wp-content/uploads/2023/09/ceist_logo_purple_background.png
END:VEVENT
END:VCALENDAR