BEGIN:VCALENDAR
VERSION:2.0
PRODID:-//CEIST | Catholic Education | An Irish Schools Trust - ECPv6.15.13.1//NONSGML v1.0//EN
CALSCALE:GREGORIAN
METHOD:PUBLISH
X-WR-CALNAME:CEIST | Catholic Education | An Irish Schools Trust
X-ORIGINAL-URL:https://www.ceist.ie
X-WR-CALDESC:Events for CEIST | Catholic Education | An Irish Schools Trust
REFRESH-INTERVAL;VALUE=DURATION:PT1H
X-Robots-Tag:noindex
X-PUBLISHED-TTL:PT1H
BEGIN:VTIMEZONE
TZID:Europe/Dublin
BEGIN:STANDARD
TZOFFSETFROM:+0000
TZOFFSETTO:+0100
TZNAME:IST
DTSTART:20220327T010000
END:STANDARD
BEGIN:DAYLIGHT
TZOFFSETFROM:+0100
TZOFFSETTO:+0000
TZNAME:GMT
DTSTART:20221030T010000
END:DAYLIGHT
BEGIN:STANDARD
TZOFFSETFROM:+0000
TZOFFSETTO:+0100
TZNAME:IST
DTSTART:20230326T010000
END:STANDARD
BEGIN:DAYLIGHT
TZOFFSETFROM:+0100
TZOFFSETTO:+0000
TZNAME:GMT
DTSTART:20231029T010000
END:DAYLIGHT
BEGIN:STANDARD
TZOFFSETFROM:+0000
TZOFFSETTO:+0100
TZNAME:IST
DTSTART:20240331T010000
END:STANDARD
BEGIN:DAYLIGHT
TZOFFSETFROM:+0100
TZOFFSETTO:+0000
TZNAME:GMT
DTSTART:20241027T010000
END:DAYLIGHT
END:VTIMEZONE
BEGIN:VEVENT
DTSTART;VALUE=DATE:20231111
DTEND;VALUE=DATE:20231112
DTSTAMP:20260418T120608
CREATED:20231020T152903Z
LAST-MODIFIED:20231020T153347Z
UID:22113-1699660800-1699747199@www.ceist.ie
SUMMARY:JMB New Board Induction Training 11th of November
DESCRIPTION:The JMB will provide training for Board of Management members at eight venues during the month of November. The Board of Management training session will provide board members with a clear insight into their roles and responsibilities as board members and the relationship between the Board and the Trustees. In looking at the role and functions of the board\, particular reference will be made to the Articles of Management\, government guidelines and relevant legislation.
URL:https://www.ceist.ie/event/amcss-jmb-new-board-induction-training-11th-of-november/
LOCATION:Talbot Hotel Stillorgan\, Talbot Hotel Stillorgan\, Stillorgan Road Stillorgan\, Dublin\, Ireland
END:VEVENT
BEGIN:VEVENT
DTSTART;VALUE=DATE:20231125
DTEND;VALUE=DATE:20231126
DTSTAMP:20260418T120608
CREATED:20231020T153219Z
LAST-MODIFIED:20231020T153315Z
UID:22119-1700870400-1700956799@www.ceist.ie
SUMMARY:JMB New Board Induction Training 25th of November
DESCRIPTION:The JMB will provide training for Board of Management members at eight venues during the month of November. The Board of Management training session will provide board members with a clear insight into their roles and responsibilities as board members and the relationship between the Board and the Trustees. In looking at the role and functions of the board\, particular reference will be made to the Articles of Management\, government guidelines and relevant legislation.
URL:https://www.ceist.ie/event/amcss-jmb-new-board-induction-training-25th-of-november/
LOCATION:Clayton Hotel\, Liffey Valley\, Clayton Hotel\, Liffey Valley\, Fonthill Road\, Liffey Valley\, Dublin D22\, X4W6\, Ireland
END:VEVENT
END:VCALENDAR