BEGIN:VCALENDAR
VERSION:2.0
PRODID:-//CEIST | Catholic Education | An Irish Schools Trust - ECPv6.15.13.1//NONSGML v1.0//EN
CALSCALE:GREGORIAN
METHOD:PUBLISH
X-WR-CALNAME:CEIST | Catholic Education | An Irish Schools Trust
X-ORIGINAL-URL:https://www.ceist.ie
X-WR-CALDESC:Events for CEIST | Catholic Education | An Irish Schools Trust
REFRESH-INTERVAL;VALUE=DURATION:PT1H
X-Robots-Tag:noindex
X-PUBLISHED-TTL:PT1H
BEGIN:VTIMEZONE
TZID:Europe/Dublin
BEGIN:STANDARD
TZOFFSETFROM:+0000
TZOFFSETTO:+0100
TZNAME:IST
DTSTART:20230326T010000
END:STANDARD
BEGIN:DAYLIGHT
TZOFFSETFROM:+0100
TZOFFSETTO:+0000
TZNAME:GMT
DTSTART:20231029T010000
END:DAYLIGHT
BEGIN:STANDARD
TZOFFSETFROM:+0000
TZOFFSETTO:+0100
TZNAME:IST
DTSTART:20240331T010000
END:STANDARD
BEGIN:DAYLIGHT
TZOFFSETFROM:+0100
TZOFFSETTO:+0000
TZNAME:GMT
DTSTART:20241027T010000
END:DAYLIGHT
BEGIN:STANDARD
TZOFFSETFROM:+0000
TZOFFSETTO:+0100
TZNAME:IST
DTSTART:20250330T010000
END:STANDARD
BEGIN:DAYLIGHT
TZOFFSETFROM:+0100
TZOFFSETTO:+0000
TZNAME:GMT
DTSTART:20251026T010000
END:DAYLIGHT
END:VTIMEZONE
BEGIN:VEVENT
DTSTART;TZID=Europe/Dublin:20240122T100000
DTEND;TZID=Europe/Dublin:20240122T143000
DTSTAMP:20260420T174424
CREATED:20231122T112911Z
LAST-MODIFIED:20240119T124022Z
UID:22187-1705917600-1705933800@www.ceist.ie
SUMMARY:Deputy Principal Network Meeting 22nd of January 2024
DESCRIPTION:Deputy Principals will gather on the dates and in the venues shown to meet their peers on a regional basis discuss current matters.  The gatherings are an opportunity to exchange views and bring further clarity to topics of interest. \nThe following areas will be explored and reviewed at the upcoming meetings: \n\nAn overview of what CEIST is currently engaged with and what we plan to do.\nA discussion on what else we can do to support Senior Leadership Teams.\nWSE   -What role can the DP play – before\, during and after\, Real life accounts.\nSupporting the Senior Leadership Team – from within the team.\nLeadership in a Faith School – progress of Focus group.\n\n  \n 
URL:https://www.ceist.ie/event/deputy-principal-network-meeting-22nd-of-january-2024/
LOCATION:Hodson Bay Hotel Athlone\, Hodson Bay Hotel\, Roscommon Road\, Athlone\, Co. Westmeath\, N37 XR82\, Ireland
ATTACH;FMTTYPE=image/png:https://www.ceist.ie/wp-content/uploads/2023/09/ceist_logo_purple_background.png
END:VEVENT
BEGIN:VEVENT
DTSTART;TZID=Europe/Dublin:20240123T100000
DTEND;TZID=Europe/Dublin:20240123T143000
DTSTAMP:20260420T174424
CREATED:20231122T113210Z
LAST-MODIFIED:20240119T124109Z
UID:22189-1706004000-1706020200@www.ceist.ie
SUMMARY:Deputy Principal Network Meeting 23rd January 2024
DESCRIPTION:Deputy Principals will gather on the dates and in the venues shown to meet their peers on a regional basis discuss current matters.  The gatherings are an opportunity to exchange views and bring further clarity to topics of interest. \nThe following areas will be explored and reviewed at the upcoming meetings: \n\nAn overview of what CEIST is currently engaged with and what we plan to do.\nA discussion on what else we can do to support Senior Leadership Teams.\nWSE   -What role can the DP play – before\, during and after\, Real life accounts.\nSupporting the Senior Leadership Team – from within the team.\nLeadership in a Faith School – progress of Focus group.
URL:https://www.ceist.ie/event/deputy-principal-network-meeting-23rd-january-2024/
LOCATION:Clayton Hotel Silver Springs\, Cork\, Clayton Hotel Silver Springs\, Cork
ATTACH;FMTTYPE=image/png:https://www.ceist.ie/wp-content/uploads/2023/09/ceist_logo_purple_background.png
END:VEVENT
BEGIN:VEVENT
DTSTART;TZID=Europe/Dublin:20240129T100000
DTEND;TZID=Europe/Dublin:20240129T143000
DTSTAMP:20260420T174424
CREATED:20231122T113513Z
LAST-MODIFIED:20240119T124153Z
UID:22191-1706522400-1706538600@www.ceist.ie
SUMMARY:Deputy Principal Network Meeting  29th January 2024
DESCRIPTION:Deputy Principals will gather on the dates and in the venues shown to meet their peers on a regional basis discuss current matters.  The gatherings are an opportunity to exchange views and bring further clarity to topics of interest. \nThe following areas will be explored and reviewed at the upcoming meetings: \n\nAn overview of what CEIST is currently engaged with and what we plan to do.\nA discussion on what else we can do to support Senior Leadership Teams.\nWSE   -What role can the DP play – before\, during and after\, Real life accounts.\nSupporting the Senior Leadership Team – from within the team.\nLeadership in a Faith School – progress of Focus group.
URL:https://www.ceist.ie/event/deputy-principal-network-meeting-29th-january-2024/
LOCATION:Sligo Park Hotel\, Sligo Park Hotel\, Pearse Rd.\, Co. Sligo\, F91 Y762\, Ireland
ATTACH;FMTTYPE=image/png:https://www.ceist.ie/wp-content/uploads/2023/09/ceist_logo_purple_background.png
END:VEVENT
BEGIN:VEVENT
DTSTART;TZID=Europe/Dublin:20240131T100000
DTEND;TZID=Europe/Dublin:20240131T143000
DTSTAMP:20260420T174424
CREATED:20231122T113758Z
LAST-MODIFIED:20240119T124224Z
UID:22193-1706695200-1706711400@www.ceist.ie
SUMMARY:Deputy Principal Network Meeting 31st January 2024
DESCRIPTION:Deputy Principals will gather on the dates and in the venues shown to meet their peers on a regional basis discuss current matters.  The gatherings are an opportunity to exchange views and bring further clarity to topics of interest. \nThe following areas will be explored and reviewed at the upcoming meetings: \n\nAn overview of what CEIST is currently engaged with and what we plan to do.\nA discussion on what else we can do to support Senior Leadership Teams.\nWSE   -What role can the DP play – before\, during and after\, Real life accounts.\nSupporting the Senior Leadership Team – from within the team.\nLeadership in a Faith School – progress of Focus group.
URL:https://www.ceist.ie/event/deputy-principal-network-meeting-31st-january-2024/
LOCATION:Clayton Hotel\, Liffey Valley\, Clayton Hotel\, Liffey Valley\, Fonthill Road\, Liffey Valley\, Dublin D22\, X4W6\, Ireland
ATTACH;FMTTYPE=image/png:https://www.ceist.ie/wp-content/uploads/2023/09/ceist_logo_purple_background.png
END:VEVENT
END:VCALENDAR