BEGIN:VCALENDAR
VERSION:2.0
PRODID:-//CEIST | Catholic Education | An Irish Schools Trust - ECPv6.15.13.1//NONSGML v1.0//EN
CALSCALE:GREGORIAN
METHOD:PUBLISH
X-WR-CALNAME:CEIST | Catholic Education | An Irish Schools Trust
X-ORIGINAL-URL:https://www.ceist.ie
X-WR-CALDESC:Events for CEIST | Catholic Education | An Irish Schools Trust
REFRESH-INTERVAL;VALUE=DURATION:PT1H
X-Robots-Tag:noindex
X-PUBLISHED-TTL:PT1H
BEGIN:VTIMEZONE
TZID:Europe/Dublin
BEGIN:STANDARD
TZOFFSETFROM:+0000
TZOFFSETTO:+0100
TZNAME:IST
DTSTART:20230326T010000
END:STANDARD
BEGIN:DAYLIGHT
TZOFFSETFROM:+0100
TZOFFSETTO:+0000
TZNAME:GMT
DTSTART:20231029T010000
END:DAYLIGHT
BEGIN:STANDARD
TZOFFSETFROM:+0000
TZOFFSETTO:+0100
TZNAME:IST
DTSTART:20240331T010000
END:STANDARD
BEGIN:DAYLIGHT
TZOFFSETFROM:+0100
TZOFFSETTO:+0000
TZNAME:GMT
DTSTART:20241027T010000
END:DAYLIGHT
BEGIN:STANDARD
TZOFFSETFROM:+0000
TZOFFSETTO:+0100
TZNAME:IST
DTSTART:20250330T010000
END:STANDARD
BEGIN:DAYLIGHT
TZOFFSETFROM:+0100
TZOFFSETTO:+0000
TZNAME:GMT
DTSTART:20251026T010000
END:DAYLIGHT
END:VTIMEZONE
BEGIN:VEVENT
DTSTART;TZID=Europe/Dublin:20240208T100000
DTEND;TZID=Europe/Dublin:20240208T153000
DTSTAMP:20260420T161811
CREATED:20230925T092208Z
LAST-MODIFIED:20240108T143309Z
UID:21911-1707386400-1707406200@www.ceist.ie
SUMMARY:Induction For Newly appointed Principals Day Two
DESCRIPTION:Our support for new principals will continue from our previous event. The second date will include contributions from the CEIST team and from experienced school leaders. \nAreas covers include: \n\nManaging School Finances\nYour Role as DLP in Child Protection issues\nWorking as a senior leadership team\nReal Life Scenarios
URL:https://www.ceist.ie/event/induction-for-newly-appointed-principals-day-two/
LOCATION:Hodson Bay Hotel Athlone\, Hodson Bay Hotel\, Roscommon Road\, Athlone\, Co. Westmeath\, N37 XR82\, Ireland
ATTACH;FMTTYPE=image/png:https://www.ceist.ie/wp-content/uploads/2023/09/ceist_logo_purple_background.png
END:VEVENT
BEGIN:VEVENT
DTSTART;TZID=Europe/Dublin:20240224T093000
DTEND;TZID=Europe/Dublin:20240224T153000
DTSTAMP:20260420T161811
CREATED:20231122T120142Z
LAST-MODIFIED:20231127T114256Z
UID:22196-1708767000-1708788600@www.ceist.ie
SUMMARY:Leaders in a Ceist School Day 1
DESCRIPTION:This programme is open to all teachers in CEIST schools who wish to explore what it means to be a leader in a CEIST School. \nIt will run over 3 Saturdays and attendance is required on all 3 dates. \nIt is a wide ranging programme that challenges both the leaders of today and the leaders of tomorrow to look at their understanding of leadership in a Catholic school in today’s world. \nTopics and themes will include: \n\nCEIST Provenance\nCurriculum challenges and what it means for Leaders in CEIST schools\nEthos in Action -the challenges of handing on the faith to a new generation and making the values\, ethos\, teachings and founding intentions visible\nIdentifying your leadership style\nOur CEIST values in action\, Creating Community\nThe inclusive school- change and challenge\nEstablishing a shared vision and purpose-leading meaningful change and building leadership capacity.\nOur search for school leaders\nSelf Review
URL:https://www.ceist.ie/event/leaders-in-a-ceist-school-day-1/
LOCATION:Raheen Woods Hotel\, Athenry\, Raheen Woods Hotel\, Prospect\, Athenry\, Galway\, Ireland
ATTACH;FMTTYPE=image/png:https://www.ceist.ie/wp-content/uploads/2023/09/ceist_logo_purple_background.png
END:VEVENT
END:VCALENDAR