BEGIN:VCALENDAR
VERSION:2.0
PRODID:-//CEIST | Catholic Education | An Irish Schools Trust - ECPv6.15.13.1//NONSGML v1.0//EN
CALSCALE:GREGORIAN
METHOD:PUBLISH
X-ORIGINAL-URL:https://www.ceist.ie
X-WR-CALDESC:Events for CEIST | Catholic Education | An Irish Schools Trust
REFRESH-INTERVAL;VALUE=DURATION:PT1H
X-Robots-Tag:noindex
X-PUBLISHED-TTL:PT1H
BEGIN:VTIMEZONE
TZID:Europe/Dublin
BEGIN:STANDARD
TZOFFSETFROM:+0000
TZOFFSETTO:+0100
TZNAME:IST
DTSTART:20230326T010000
END:STANDARD
BEGIN:DAYLIGHT
TZOFFSETFROM:+0100
TZOFFSETTO:+0000
TZNAME:GMT
DTSTART:20231029T010000
END:DAYLIGHT
BEGIN:STANDARD
TZOFFSETFROM:+0000
TZOFFSETTO:+0100
TZNAME:IST
DTSTART:20240331T010000
END:STANDARD
BEGIN:DAYLIGHT
TZOFFSETFROM:+0100
TZOFFSETTO:+0000
TZNAME:GMT
DTSTART:20241027T010000
END:DAYLIGHT
BEGIN:STANDARD
TZOFFSETFROM:+0000
TZOFFSETTO:+0100
TZNAME:IST
DTSTART:20250330T010000
END:STANDARD
BEGIN:DAYLIGHT
TZOFFSETFROM:+0100
TZOFFSETTO:+0000
TZNAME:GMT
DTSTART:20251026T010000
END:DAYLIGHT
END:VTIMEZONE
BEGIN:VEVENT
DTSTART;TZID=Europe/Dublin:20240302T093000
DTEND;TZID=Europe/Dublin:20240302T140000
DTSTAMP:20260420T150251
CREATED:20240209T102853Z
LAST-MODIFIED:20240209T105339Z
UID:22453-1709371800-1709388000@www.ceist.ie
SUMMARY:Chairpersons CPD
DESCRIPTION:CEIST is hosting our annual meeting of Chairpersons of our Boards of Management on Saturday\, March 2nd.  This will take place in The Sheraton Hotel\, Athlone.  We hope you will be able to join us in order to meet one another\, exchange ideas and discuss updates. \nRegistration for the day is available through the link below.  Please complete your registration by 5 p.m. on the 23rd February. \nCHAIRPERSONS CPD (office.com)
URL:https://www.ceist.ie/event/chairpersons-cpd/
LOCATION:Sheraton Hotel Athlone\, Sheraton Hotel\, Athlone\, Co. Westmeath\, Ireland
ATTACH;FMTTYPE=image/png:https://www.ceist.ie/wp-content/uploads/2023/09/ceist_logo_purple_background.png
END:VEVENT
BEGIN:VEVENT
DTSTART;TZID=Europe/Dublin:20240302T093000
DTEND;TZID=Europe/Dublin:20240302T153000
DTSTAMP:20260420T150251
CREATED:20231122T120443Z
LAST-MODIFIED:20231127T114319Z
UID:22199-1709371800-1709393400@www.ceist.ie
SUMMARY:Leaders in a Ceist School Day 2
DESCRIPTION:This programme is open to all teachers in CEIST schools who wish to explore what it means to be a leader in a CEIST School. \nIt will run over 3 Saturdays and attendance is required on all 3 dates. \nIt is a wide ranging programme that challenges both the leaders of today and the leaders of tomorrow to look at their understanding of leadership in a Catholic school in today’s world. \nTopics and themes will include: \n\nCEIST Provenance\nCurriculum challenges and what it means for Leaders in CEIST schools\nEthos in Action -the challenges of handing on the faith to a new generation and making the values\, ethos\, teachings and founding intentions visible\nIdentifying your leadership style\nOur CEIST values in action\, Creating Community\nThe inclusive school- change and challenge\nEstablishing a shared vision and purpose-leading meaningful change and building leadership capacity.\nOur search for school leaders\nSelf Review
URL:https://www.ceist.ie/event/leaders-in-a-ceist-school-day-2/
LOCATION:Raheen Woods Hotel\, Athenry\, Raheen Woods Hotel\, Prospect\, Athenry\, Galway\, Ireland
ATTACH;FMTTYPE=image/png:https://www.ceist.ie/wp-content/uploads/2023/09/ceist_logo_purple_background.png
END:VEVENT
BEGIN:VEVENT
DTSTART;TZID=Europe/Dublin:20240306T093000
DTEND;TZID=Europe/Dublin:20240306T133000
DTSTAMP:20260420T150251
CREATED:20240209T103126Z
LAST-MODIFIED:20240221T155832Z
UID:22455-1709717400-1709731800@www.ceist.ie
SUMMARY:RE Teachers CPD Day 1
DESCRIPTION:The meetings will be an opportunity for our RE colleagues to meet one another\, exchange ideas and discuss updates.  In particular we will discuss each of the following:- \n  \n\nOptional CEIST RE Certificate (Junior Cycle) Your experience\nOptional CEIST RE Certificate (Senior Cycle) Exchange of views\nOpen discussion on what has worked well for you and your students in recent years.  Exchange of new ideas.\n\n  \nThe keynote presentation will be by Dr Sandra Cullen who will present a workshop entitled ‘Pieces of a jigsaw: the religious education of the religion teacher’.  Dr Cullen is Associate Professor of Religious Education and Head of the School of Human Development at Dublin City University. \n  \nRE TEACHERS CPD 2024 (office.com) \n 
URL:https://www.ceist.ie/event/re-teachers-cpd-day-1-2/
LOCATION:Aspect Hotel\, Dublin\, Park West Avenue\, Nangor Road Clondalkin\, D12 Dublin\, Ireland
ATTACH;FMTTYPE=image/png:https://www.ceist.ie/wp-content/uploads/2023/09/ceist_logo_purple_background.png
END:VEVENT
BEGIN:VEVENT
DTSTART;TZID=Europe/Dublin:20240309T093000
DTEND;TZID=Europe/Dublin:20240309T133000
DTSTAMP:20260420T150251
CREATED:20231122T120702Z
LAST-MODIFIED:20231127T114352Z
UID:22201-1709976600-1709991000@www.ceist.ie
SUMMARY:Leaders in a Ceist School Day 3
DESCRIPTION:This programme is open to all teachers in CEIST schools who wish to explore what it means to be a leader in a CEIST School. \nIt will run over 3 Saturdays and attendance is required on all 3 dates. \nIt is a wide ranging programme that challenges both the leaders of today and the leaders of tomorrow to look at their understanding of leadership in a Catholic school in today’s world. \nTopics and themes will include: \n\nCEIST Provenance\nCurriculum challenges and what it means for Leaders in CEIST schools\nEthos in Action -the challenges of handing on the faith to a new generation and making the values\, ethos\, teachings and founding intentions visible\nIdentifying your leadership style\nOur CEIST values in action\, Creating Community\nThe inclusive school- change and challenge\nEstablishing a shared vision and purpose-leading meaningful change and building leadership capacity.\nOur search for school leaders\nSelf Review
URL:https://www.ceist.ie/event/leaders-in-a-ceist-school-day-3/
LOCATION:Raheen Woods Hotel\, Athenry\, Raheen Woods Hotel\, Prospect\, Athenry\, Galway\, Ireland
ATTACH;FMTTYPE=image/png:https://www.ceist.ie/wp-content/uploads/2023/09/ceist_logo_purple_background.png
END:VEVENT
BEGIN:VEVENT
DTSTART;TZID=Europe/Dublin:20240313T093000
DTEND;TZID=Europe/Dublin:20240313T133000
DTSTAMP:20260420T150251
CREATED:20240209T105002Z
LAST-MODIFIED:20240209T105002Z
UID:22457-1710322200-1710336600@www.ceist.ie
SUMMARY:RE Teachers CPD Day 2
DESCRIPTION:The meetings will be an opportunity for our RE colleagues to meet one another\, exchange ideas and discuss updates.  In particular we will discuss each of the following:- \n  \n\nOptional CEIST RE Certificate (Junior Cycle) Your experience\nOptional CEIST RE Certificate (Senior Cycle) Exchange of views\nOpen discussion on what has worked well for you and your students in recent years.  Exchange of new ideas.\n\n  \nThe keynote presentation will be by Dr Sandra Cullen who will present a workshop entitled ‘Pieces of a jigsaw: the religious education of the religion teacher’.  Dr Cullen is Associate Professor of Religious Education and Head of the School of Human Development at Dublin City University. \n  \nRE TEACHERS CPD 2024 (office.com)
URL:https://www.ceist.ie/event/re-teachers-cpd-day-2-2/
LOCATION:Castletroy Park Hotel and Suites\, Castletroy Park Hotel and Suites\, University Gates\, Dublin Rd\, Limerick\, Limerick\, Ireland
END:VEVENT
END:VCALENDAR