BEGIN:VCALENDAR
VERSION:2.0
PRODID:-//CEIST | Catholic Education | An Irish Schools Trust - ECPv6.15.13.1//NONSGML v1.0//EN
CALSCALE:GREGORIAN
METHOD:PUBLISH
X-ORIGINAL-URL:https://www.ceist.ie
X-WR-CALDESC:Events for CEIST | Catholic Education | An Irish Schools Trust
REFRESH-INTERVAL;VALUE=DURATION:PT1H
X-Robots-Tag:noindex
X-PUBLISHED-TTL:PT1H
BEGIN:VTIMEZONE
TZID:Europe/Dublin
BEGIN:STANDARD
TZOFFSETFROM:+0000
TZOFFSETTO:+0100
TZNAME:IST
DTSTART:20230326T010000
END:STANDARD
BEGIN:DAYLIGHT
TZOFFSETFROM:+0100
TZOFFSETTO:+0000
TZNAME:GMT
DTSTART:20231029T010000
END:DAYLIGHT
BEGIN:STANDARD
TZOFFSETFROM:+0000
TZOFFSETTO:+0100
TZNAME:IST
DTSTART:20240331T010000
END:STANDARD
BEGIN:DAYLIGHT
TZOFFSETFROM:+0100
TZOFFSETTO:+0000
TZNAME:GMT
DTSTART:20241027T010000
END:DAYLIGHT
BEGIN:STANDARD
TZOFFSETFROM:+0000
TZOFFSETTO:+0100
TZNAME:IST
DTSTART:20250330T010000
END:STANDARD
BEGIN:DAYLIGHT
TZOFFSETFROM:+0100
TZOFFSETTO:+0000
TZNAME:GMT
DTSTART:20251026T010000
END:DAYLIGHT
END:VTIMEZONE
BEGIN:VEVENT
DTSTART;TZID=Europe/Dublin:20240417T090000
DTEND;TZID=Europe/Dublin:20240417T150000
DTSTAMP:20260420T134730
CREATED:20240206T113824Z
LAST-MODIFIED:20240206T113824Z
UID:22450-1713344400-1713366000@www.ceist.ie
SUMMARY:Student Leadership Conference 2024
DESCRIPTION:We are delighted to announce that our Student Leadership Conference will take place on Wednesday 17th April 2024 in DCU St. Patrick’s Campus\, Drumcondra. This is a wonderful event which brings together students leaders and teachers from each of our 107 CEIST schools to hear and discuss the great work of student leadership happening across all our schools. The theme of this year’s conference is Making a Difference – our CEIST Values in Action. \n  \nRegister to attend here – Online Registration Form
URL:https://www.ceist.ie/event/student-leadership-conference-2024/
LOCATION:St. Patricks College Campus DCU\, St. Patrick's College Campus DCU
END:VEVENT
END:VCALENDAR