BEGIN:VCALENDAR
VERSION:2.0
PRODID:-//CEIST | Catholic Education | An Irish Schools Trust - ECPv6.15.13.1//NONSGML v1.0//EN
CALSCALE:GREGORIAN
METHOD:PUBLISH
X-ORIGINAL-URL:https://www.ceist.ie
X-WR-CALDESC:Events for CEIST | Catholic Education | An Irish Schools Trust
REFRESH-INTERVAL;VALUE=DURATION:PT1H
X-Robots-Tag:noindex
X-PUBLISHED-TTL:PT1H
BEGIN:VTIMEZONE
TZID:Europe/Dublin
BEGIN:STANDARD
TZOFFSETFROM:+0000
TZOFFSETTO:+0100
TZNAME:IST
DTSTART:20230326T010000
END:STANDARD
BEGIN:DAYLIGHT
TZOFFSETFROM:+0100
TZOFFSETTO:+0000
TZNAME:GMT
DTSTART:20231029T010000
END:DAYLIGHT
BEGIN:STANDARD
TZOFFSETFROM:+0000
TZOFFSETTO:+0100
TZNAME:IST
DTSTART:20240331T010000
END:STANDARD
BEGIN:DAYLIGHT
TZOFFSETFROM:+0100
TZOFFSETTO:+0000
TZNAME:GMT
DTSTART:20241027T010000
END:DAYLIGHT
BEGIN:STANDARD
TZOFFSETFROM:+0000
TZOFFSETTO:+0100
TZNAME:IST
DTSTART:20250330T010000
END:STANDARD
BEGIN:DAYLIGHT
TZOFFSETFROM:+0100
TZOFFSETTO:+0000
TZNAME:GMT
DTSTART:20251026T010000
END:DAYLIGHT
END:VTIMEZONE
BEGIN:VEVENT
DTSTART;TZID=Europe/Dublin:20241008T100000
DTEND;TZID=Europe/Dublin:20241008T150000
DTSTAMP:20260420T013742
CREATED:20240904T070720Z
LAST-MODIFIED:20240904T072233Z
UID:23054-1728381600-1728399600@www.ceist.ie
SUMMARY:RE Teacher's CPD 8th October
DESCRIPTION:The RE Teachers’ Network Meeting  is an opportunity for RE teachers in CEIST schools to connect\, share ideas and resources.  This will help to assist your work  in the classroom as well as your work\, along with your colleagues\,  in promoting and nourishing the characteristic spirit in your school. \n  \nWe will discuss the crucial role of the RE teacher in your school where\,  for many\,  it may be a student’s only connection to faith.
URL:https://www.ceist.ie/event/re-teachers-gathering/
LOCATION:Springfor Hall Hotel\, Springfor Hall Hotel\, Twopothouse\, Mallow\, Co. Cork\, Cork\, P51 YP96\, Ireland
ATTACH;FMTTYPE=image/png:https://www.ceist.ie/wp-content/uploads/2023/09/ceist_logo_purple_background.png
END:VEVENT
BEGIN:VEVENT
DTSTART;TZID=Europe/Dublin:20241010T100000
DTEND;TZID=Europe/Dublin:20241010T150000
DTSTAMP:20260420T013742
CREATED:20240904T071719Z
LAST-MODIFIED:20240904T072150Z
UID:23067-1728554400-1728572400@www.ceist.ie
SUMMARY:RE Teacher's CPD 10th October
DESCRIPTION:The RE Teachers’ Network Meeting  is an opportunity for RE teachers in CEIST schools to connect\, share ideas and resources.  This will help to assist your work  in the classroom as well as your work\, along with your colleagues\,  in promoting and nourishing the characteristic spirit in your school. \n  \nWe will discuss the crucial role of the RE teacher in your school where\,  for many\,  it may be a student’s only connection to faith.
URL:https://www.ceist.ie/event/re-teachers-gathering-2/
LOCATION:Athlone Springs Hotel\, R362\, Monksland\, Athlone\, Co. Roscommon\, N37 F9T3\, Ireland
ATTACH;FMTTYPE=image/png:https://www.ceist.ie/wp-content/uploads/2023/09/ceist_logo_purple_background.png
END:VEVENT
BEGIN:VEVENT
DTSTART;TZID=Europe/Dublin:20241014T100000
DTEND;TZID=Europe/Dublin:20241014T153000
DTSTAMP:20260420T013742
CREATED:20240904T064959Z
LAST-MODIFIED:20240904T064959Z
UID:23056-1728900000-1728919800@www.ceist.ie
SUMMARY:Induction For Newly appointed Principals Day One
DESCRIPTION:Our support for new principals will include contributions from the CEIST team and from experienced school leaders. \nAreas covers include: \n\nBeing a Leader in a Faith School\nYour Role as Secretary to the Board of Management\nPartition support for new leaders\nReal Life Practical Scenarios
URL:https://www.ceist.ie/event/induction-for-newly-appointed-principals-day-one-2/
LOCATION:Hodson Bay Hotel Athlone\, Hodson Bay Hotel\, Roscommon Road\, Athlone\, Co. Westmeath\, N37 XR82\, Ireland
ATTACH;FMTTYPE=image/png:https://www.ceist.ie/wp-content/uploads/2023/09/ceist_logo_purple_background.png
END:VEVENT
BEGIN:VEVENT
DTSTART;TZID=Europe/Dublin:20241015T100000
DTEND;TZID=Europe/Dublin:20241015T150000
DTSTAMP:20260420T013742
CREATED:20240904T072051Z
LAST-MODIFIED:20240904T072121Z
UID:23072-1728986400-1729004400@www.ceist.ie
SUMMARY:RE Teacher's CPD 15th October
DESCRIPTION:The RE Teachers’ Network Meeting  is an opportunity for RE teachers in CEIST schools to connect\, share ideas and resources.  This will help to assist your work  in the classroom as well as your work\, along with your colleagues\,  in promoting and nourishing the characteristic spirit in your school. \n  \nWe will discuss the crucial role of the RE teacher in your school where\,  for many\,  it may be a student’s only connection to faith.
URL:https://www.ceist.ie/event/re-teachers-gathering-15th-october/
LOCATION:Clayton Hotel\, Liffey Valley\, Clayton Hotel\, Liffey Valley\, Fonthill Road\, Liffey Valley\, Dublin D22\, X4W6\, Ireland
ATTACH;FMTTYPE=image/png:https://www.ceist.ie/wp-content/uploads/2023/09/ceist_logo_purple_background.png
END:VEVENT
END:VCALENDAR