BEGIN:VCALENDAR
VERSION:2.0
PRODID:-//CEIST | Catholic Education | An Irish Schools Trust - ECPv6.15.13.1//NONSGML v1.0//EN
CALSCALE:GREGORIAN
METHOD:PUBLISH
X-ORIGINAL-URL:https://www.ceist.ie
X-WR-CALDESC:Events for CEIST | Catholic Education | An Irish Schools Trust
REFRESH-INTERVAL;VALUE=DURATION:PT1H
X-Robots-Tag:noindex
X-PUBLISHED-TTL:PT1H
BEGIN:VTIMEZONE
TZID:Europe/Dublin
BEGIN:STANDARD
TZOFFSETFROM:+0000
TZOFFSETTO:+0100
TZNAME:IST
DTSTART:20240331T010000
END:STANDARD
BEGIN:DAYLIGHT
TZOFFSETFROM:+0100
TZOFFSETTO:+0000
TZNAME:GMT
DTSTART:20241027T010000
END:DAYLIGHT
BEGIN:STANDARD
TZOFFSETFROM:+0000
TZOFFSETTO:+0100
TZNAME:IST
DTSTART:20250330T010000
END:STANDARD
BEGIN:DAYLIGHT
TZOFFSETFROM:+0100
TZOFFSETTO:+0000
TZNAME:GMT
DTSTART:20251026T010000
END:DAYLIGHT
BEGIN:STANDARD
TZOFFSETFROM:+0000
TZOFFSETTO:+0100
TZNAME:IST
DTSTART:20260329T010000
END:STANDARD
BEGIN:DAYLIGHT
TZOFFSETFROM:+0100
TZOFFSETTO:+0000
TZNAME:GMT
DTSTART:20261025T010000
END:DAYLIGHT
END:VTIMEZONE
BEGIN:VEVENT
DTSTART;TZID=Europe/Dublin:20250507T103000
DTEND;TZID=Europe/Dublin:20250507T143000
DTSTAMP:20260419T162204
CREATED:20250501T145357Z
LAST-MODIFIED:20250501T145637Z
UID:23664-1746613800-1746628200@www.ceist.ie
SUMMARY:Student Leadership Conference 2025
DESCRIPTION:  \nWe are delighted to announce that our Student Leadership Conference will take place on Wednesday 7th May 2025 in DCU St. Patrick’s Campus\, Drumcondra. This is a wonderful event which brings together students leaders and teachers from each of our 105 CEIST schools to hear and discuss the great work of student leadership happening across all our schools.
URL:https://www.ceist.ie/event/student-leadership-conference-2025/
LOCATION:Co. Offaly
END:VEVENT
BEGIN:VEVENT
DTSTART;VALUE=DATE:20250516
DTEND;VALUE=DATE:20250518
DTSTAMP:20260419T162204
CREATED:20250508T150410Z
LAST-MODIFIED:20250508T150410Z
UID:23687-1747353600-1747526399@www.ceist.ie
SUMMARY:Induction For Newly appointed Principals Day Three
DESCRIPTION:Our support for new principals will conclude with our final event. The final day will include contributions from the CEIST team and from experienced school leaders.
URL:https://www.ceist.ie/event/induction-for-newly-appointed-principals-day-three-2/
LOCATION:Hodson Bay Hotel Athlone\, Hodson Bay Hotel\, Roscommon Road\, Athlone\, Co. Westmeath\, N37 XR82\, Ireland
END:VEVENT
END:VCALENDAR