BEGIN:VCALENDAR
VERSION:2.0
PRODID:-//CEIST | Catholic Education | An Irish Schools Trust - ECPv6.15.13.1//NONSGML v1.0//EN
CALSCALE:GREGORIAN
METHOD:PUBLISH
X-WR-CALNAME:CEIST | Catholic Education | An Irish Schools Trust
X-ORIGINAL-URL:https://www.ceist.ie
X-WR-CALDESC:Events for CEIST | Catholic Education | An Irish Schools Trust
REFRESH-INTERVAL;VALUE=DURATION:PT1H
X-Robots-Tag:noindex
X-PUBLISHED-TTL:PT1H
BEGIN:VTIMEZONE
TZID:Europe/Dublin
BEGIN:STANDARD
TZOFFSETFROM:+0000
TZOFFSETTO:+0100
TZNAME:IST
DTSTART:20240331T010000
END:STANDARD
BEGIN:DAYLIGHT
TZOFFSETFROM:+0100
TZOFFSETTO:+0000
TZNAME:GMT
DTSTART:20241027T010000
END:DAYLIGHT
BEGIN:STANDARD
TZOFFSETFROM:+0000
TZOFFSETTO:+0100
TZNAME:IST
DTSTART:20250330T010000
END:STANDARD
BEGIN:DAYLIGHT
TZOFFSETFROM:+0100
TZOFFSETTO:+0000
TZNAME:GMT
DTSTART:20251026T010000
END:DAYLIGHT
BEGIN:STANDARD
TZOFFSETFROM:+0000
TZOFFSETTO:+0100
TZNAME:IST
DTSTART:20260329T010000
END:STANDARD
BEGIN:DAYLIGHT
TZOFFSETFROM:+0100
TZOFFSETTO:+0000
TZNAME:GMT
DTSTART:20261025T010000
END:DAYLIGHT
END:VTIMEZONE
BEGIN:VEVENT
DTSTART;TZID=Europe/Dublin:20250618T103000
DTEND;TZID=Europe/Dublin:20250618T143000
DTSTAMP:20260419T144030
CREATED:20250512T151804Z
LAST-MODIFIED:20250513T142637Z
UID:23709-1750242600-1750257000@www.ceist.ie
SUMMARY:Deputy Principal Network Meeting 18th of June
DESCRIPTION:Deputy Principals will gather on the dates and in the venues shown to meet their peers on a regional basis discuss current matters.  The gatherings are an opportunity to exchange views and bring further clarity to topics of interest.
URL:https://www.ceist.ie/event/deputy-principal-network-meeting-18th-of-june/
LOCATION:Woodlands Hotel\, Adare\, Woodlands Hotel\, Adare
END:VEVENT
BEGIN:VEVENT
DTSTART;TZID=Europe/Dublin:20250619T103000
DTEND;TZID=Europe/Dublin:20250619T143000
DTSTAMP:20260419T144030
CREATED:20250512T151906Z
LAST-MODIFIED:20250513T142657Z
UID:23711-1750329000-1750343400@www.ceist.ie
SUMMARY:Deputy Principal Network Meeting 19th of June
DESCRIPTION:Deputy Principals will gather on the dates and in the venues shown to meet their peers on a regional basis discuss current matters.  The gatherings are an opportunity to exchange views and bring further clarity to topics of interest.
URL:https://www.ceist.ie/event/deputy-principal-network-meeting-19th-of-january/
LOCATION:Mullingar Park Hotel\, Mullingar Park Hotel \,Dublin Rd\, Marlinstown\, Mullingar\, Westmeath\, N91 A4EP\, Ireland
END:VEVENT
END:VCALENDAR